BEGIN:VCALENDAR
VERSION:2.0
PRODID:-//Drupal//DD Create//EN
METHOD:PUBLISH
BEGIN:VEVENT
UID:dd_create.993.0
DTSTAMP:20260425T105228Z
DTSTART:20160810T145500Z
DTEND:20160810T205500Z
SUMMARY:First Day of School 
URL;VALUE=URI:https://www.sthope.org/event/first-day-school
END:VEVENT
END:VCALENDAR
