BEGIN:VCALENDAR
VERSION:2.0
PRODID:-//Drupal//DD Create//EN
METHOD:PUBLISH
BEGIN:VEVENT
UID:dd_create.777.0
DTSTAMP:20260423T082157Z
DTSTART:20161029T010000Z
DTEND:20161029T040000Z
SUMMARY:St. HOPE Dinner
URL;VALUE=URI:https://www.sthope.org/overview/st-hope-dinner
END:VEVENT
END:VCALENDAR
