BEGIN:VCALENDAR
VERSION:2.0
PRODID:-//Drupal//DD Create//EN
METHOD:PUBLISH
BEGIN:VEVENT
UID:dd_create.5470.0
DTSTAMP:20260423T081816Z
DTSTART:20260425T070000Z
DTEND:20260426T070000Z
SUMMARY:Independent Bookstore Day
URL;VALUE=URI:https://www.sthope.org/event/independent-bookstore-day-0
END:VEVENT
END:VCALENDAR
