BEGIN:VCALENDAR
VERSION:2.0
PRODID:-//Drupal//DD Create//EN
METHOD:PUBLISH
BEGIN:VEVENT
UID:dd_create.5469.0
DTSTAMP:20260423T081825Z
DTSTART:20260507T070000Z
DTEND:20260507T070000Z
SUMMARY:Big Day of Giving
URL;VALUE=URI:https://www.sthope.org/event/big-day-giving-0
END:VEVENT
END:VCALENDAR
