BEGIN:VCALENDAR
VERSION:2.0
PRODID:-//Drupal//DD Create//EN
METHOD:PUBLISH
BEGIN:VEVENT
UID:dd_create.5467.0
DTSTAMP:20260423T004615Z
DTSTART:20260509T170000Z
DTEND:20260509T180000Z
SUMMARY:Let's Read Oak Park Featuring Janay Brown Wood reading "This Hair Belongs" 
URL;VALUE=URI:https://www.sthope.org/pipeline-newsletter/lets-read-oak-park-featuring-janay-brown-wood-reading-hair-belongs-0
END:VEVENT
END:VCALENDAR
