BEGIN:VCALENDAR
VERSION:2.0
PRODID:-//Drupal//DD Create//EN
METHOD:PUBLISH
BEGIN:VEVENT
UID:dd_create.5436.0
DTSTAMP:20260424T130732Z
DTSTART:20260607T210000Z
DTEND:20260607T230000Z
SUMMARY:Family Movie Matinee
URL;VALUE=URI:https://www.sthope.org/event/family-movie-matinee-5
END:VEVENT
END:VCALENDAR
