BEGIN:VCALENDAR
VERSION:2.0
PRODID:-//Drupal//DD Create//EN
METHOD:PUBLISH
BEGIN:VEVENT
UID:dd_create.5434.0
DTSTAMP:20260422T102630Z
DTSTART:20260412T210000Z
DTEND:20260412T230000Z
SUMMARY:Family Movie Matinee
URL;VALUE=URI:https://www.sthope.org/event/family-movie-matinee-3
END:VEVENT
END:VCALENDAR
