BEGIN:VCALENDAR
VERSION:2.0
PRODID:-//Drupal//DD Create//EN
METHOD:PUBLISH
BEGIN:VEVENT
UID:dd_create.5426.0
DTSTAMP:20260419T173149Z
DTSTART:20260419T010000Z
DTEND:20260419T030000Z
SUMMARY:Underground Books Author Talk with Tony Browder
URL;VALUE=URI:https://www.sthope.org/event/underground-books-author-talk-tony-browder
END:VEVENT
END:VCALENDAR
