BEGIN:VCALENDAR
VERSION:2.0
PRODID:-//Drupal//DD Create//EN
METHOD:PUBLISH
BEGIN:VEVENT
UID:dd_create.5425.0
DTSTAMP:20260419T212357Z
DTSTART:20260322T020000Z
DTEND:20260322T020000Z
SUMMARY:Comedy Night Feat. Jammin Jay Lamont
URL;VALUE=URI:https://www.sthope.org/event/comedy-night-feat-jammin-jay-lamont
END:VEVENT
END:VCALENDAR
