BEGIN:VCALENDAR
VERSION:2.0
PRODID:-//Drupal//DD Create//EN
METHOD:PUBLISH
BEGIN:VEVENT
UID:dd_create.5417.0
DTSTAMP:20260421T192119Z
DTSTART:20260302T020000Z
DTEND:20260302T033000Z
SUMMARY:Author Talk Featuring Teddy Riley
URL;VALUE=URI:https://www.sthope.org/event/author-talk-featuring-teddy-riley
END:VEVENT
END:VCALENDAR
