BEGIN:VCALENDAR
VERSION:2.0
PRODID:-//Drupal//DD Create//EN
METHOD:PUBLISH
BEGIN:VEVENT
UID:dd_create.5345.0
DTSTAMP:20260424T012829Z
DTSTART:20260104T220000Z
DTEND:20260105T000000Z
SUMMARY:Family Movie Matinee
URL;VALUE=URI:https://www.sthope.org/community-event/family-movie-matinee-15
END:VEVENT
END:VCALENDAR
