BEGIN:VCALENDAR
VERSION:2.0
PRODID:-//Drupal//DD Create//EN
METHOD:PUBLISH
BEGIN:VEVENT
UID:dd_create.5339.0
DTSTAMP:20260423T130958Z
DTSTART:20251109T210000Z
DTEND:20251109T223000Z
SUMMARY: Author Talk & Book Signing featuring: Linda González
URL;VALUE=URI:https://www.sthope.org/community-event/author-talk-book-signing-featuring-linda-gonzalez
END:VEVENT
END:VCALENDAR
