BEGIN:VCALENDAR
VERSION:2.0
PRODID:-//Drupal//DD Create//EN
METHOD:PUBLISH
BEGIN:VEVENT
UID:dd_create.5321.0
DTSTAMP:20260425T171022Z
DTSTART:20251121T020000Z
DTEND:20251121T033000Z
SUMMARY:Author Talk & Book Signing featuring: Dr. Vanessa Grubbs
URL;VALUE=URI:https://www.sthope.org/community-event/author-talk-book-signing-featuring-dr-vanessa-grubbs
END:VEVENT
END:VCALENDAR
