BEGIN:VCALENDAR
VERSION:2.0
PRODID:-//Drupal//DD Create//EN
METHOD:PUBLISH
BEGIN:VEVENT
UID:dd_create.5266.0
DTSTAMP:20260423T230143Z
DTSTART:20250913T190000Z
DTEND:20250913T200000Z
SUMMARY:Sac BlackLit Book Fest – Featuring Shaka Senghor
URL;VALUE=URI:https://www.sthope.org/community-event/sac-blacklit-book-fest-featuring-shaka-senghor
END:VEVENT
END:VCALENDAR
