BEGIN:VCALENDAR
VERSION:2.0
PRODID:-//Drupal//DD Create//EN
METHOD:PUBLISH
BEGIN:VEVENT
UID:dd_create.5177.0
DTSTAMP:20260425T102943Z
DTSTART:20250504T210000Z
DTEND:20250504T210000Z
SUMMARY:Family Movie Matinee
URL;VALUE=URI:https://www.sthope.org/community-event/family-movie-matinee-7
END:VEVENT
END:VCALENDAR
