BEGIN:VCALENDAR
VERSION:2.0
PRODID:-//Drupal//DD Create//EN
METHOD:PUBLISH
BEGIN:VEVENT
UID:dd_create.5175.0
DTSTAMP:20260419T155209Z
DTSTART:20250311T010000Z
DTEND:20250311T010000Z
SUMMARY:Special Movie Screening of "N.W.A: Not Without Alonzo"
URL;VALUE=URI:https://www.sthope.org/community-event/special-movie-screening-nwa-not-without-alonzo
END:VEVENT
END:VCALENDAR
