BEGIN:VCALENDAR
VERSION:2.0
PRODID:-//Drupal//DD Create//EN
METHOD:PUBLISH
BEGIN:VEVENT
UID:dd_create.5168.0
DTSTAMP:20260422T171749Z
DTSTART:20250316T020000Z
DTEND:20250316T060000Z
SUMMARY:Comedy Night featuring Malik B.
URL;VALUE=URI:https://www.sthope.org/event/comedy-night-featuring-malik-b
END:VEVENT
END:VCALENDAR
