BEGIN:VCALENDAR
VERSION:2.0
PRODID:-//Drupal//DD Create//EN
METHOD:PUBLISH
BEGIN:VEVENT
UID:dd_create.5160.0
DTSTAMP:20260424T181616Z
DTSTART:20250205T020000Z
DTEND:20250205T040000Z
SUMMARY:Black Cinema Film Series: The Six Triple Eight
URL;VALUE=URI:https://www.sthope.org/community-event/black-cinema-film-series-six-triple-eight
END:VEVENT
END:VCALENDAR
