BEGIN:VCALENDAR
VERSION:2.0
PRODID:-//Drupal//DD Create//EN
METHOD:PUBLISH
BEGIN:VEVENT
UID:dd_create.5144.0
DTSTAMP:20260425T220059Z
DTSTART:20250124T020000Z
DTEND:20250124T033000Z
SUMMARY: Author Talk featuring Sheryl Grant 
URL;VALUE=URI:https://www.sthope.org/community-event/author-talk-featuring-sheryl-grant
END:VEVENT
END:VCALENDAR
