BEGIN:VCALENDAR
VERSION:2.0
PRODID:-//Drupal//DD Create//EN
METHOD:PUBLISH
BEGIN:VEVENT
UID:dd_create.5143.0
DTSTAMP:20260423T194344Z
DTSTART:20250214T020000Z
DTEND:20250214T033000Z
SUMMARY:Author Talk featuring Victoria Christopher Murray 
URL;VALUE=URI:https://www.sthope.org/community-event/author-talk-featuring-victoria-christopher-murray
END:VEVENT
END:VCALENDAR
