BEGIN:VCALENDAR
VERSION:2.0
PRODID:-//Drupal//DD Create//EN
METHOD:PUBLISH
BEGIN:VEVENT
UID:dd_create.5141.0
DTSTAMP:20260423T201651Z
DTSTART:20250110T030000Z
DTEND:20250110T030000Z
SUMMARY:Poetry Night
URL;VALUE=URI:https://www.sthope.org/community-event/poetry-night-0
END:VEVENT
END:VCALENDAR
