BEGIN:VCALENDAR
VERSION:2.0
PRODID:-//Drupal//DD Create//EN
METHOD:PUBLISH
BEGIN:VEVENT
UID:dd_create.5125.0
DTSTAMP:20260423T043400Z
DTSTART:20250112T040000Z
DTEND:20250112T040000Z
SUMMARY:Comedy Night 
URL;VALUE=URI:https://www.sthope.org/event/comedy-night-4
END:VEVENT
END:VCALENDAR
