BEGIN:VCALENDAR
VERSION:2.0
PRODID:-//Drupal//DD Create//EN
METHOD:PUBLISH
BEGIN:VEVENT
UID:dd_create.4946.0
DTSTAMP:20260422T222958Z
DTSTART:20240603T070000Z
DTEND:20240717T070000Z
SUMMARY:Inspire U Summer Academy
URL;VALUE=URI:https://www.sthope.org/event/inspire-u-summer-academy
END:VEVENT
END:VCALENDAR
