BEGIN:VCALENDAR
VERSION:2.0
PRODID:-//Drupal//DD Create//EN
METHOD:PUBLISH
BEGIN:VEVENT
UID:dd_create.4939.0
DTSTAMP:20260425T154455Z
DTSTART:20240614T010000Z
DTEND:20240614T030000Z
SUMMARY:Oak Park Speaker Series
URL;VALUE=URI:https://www.sthope.org/event/oak-park-speaker-series-2
END:VEVENT
END:VCALENDAR
