BEGIN:VCALENDAR
VERSION:2.0
PRODID:-//Drupal//DD Create//EN
METHOD:PUBLISH
BEGIN:VEVENT
UID:dd_create.4929.0
DTSTAMP:20260423T230123Z
DTSTART:20240503T020000Z
DTEND:20240503T020000Z
SUMMARY:POHOP: Poetry & Hip Hop Night
URL;VALUE=URI:https://www.sthope.org/event/pohop-poetry-hip-hop-night
END:VEVENT
END:VCALENDAR
