BEGIN:VCALENDAR
VERSION:2.0
PRODID:-//Drupal//DD Create//EN
METHOD:PUBLISH
BEGIN:VEVENT
UID:dd_create.4909.0
DTSTAMP:20260423T224156Z
DTSTART:20240308T030000Z
DTEND:20240308T030000Z
SUMMARY:Poetry Night
URL;VALUE=URI:https://www.sthope.org/event/poetry-night-3
END:VEVENT
END:VCALENDAR
