BEGIN:VCALENDAR
VERSION:2.0
PRODID:-//Drupal//DD Create//EN
METHOD:PUBLISH
BEGIN:VEVENT
UID:dd_create.4868.0
DTSTAMP:20260425T220008Z
DTSTART:20240111T020000Z
DTEND:20240111T020000Z
SUMMARY:Sacramento Showcase
URL;VALUE=URI:https://www.sthope.org/event/sacramento-showcase-0
END:VEVENT
END:VCALENDAR
