BEGIN:VCALENDAR
VERSION:2.0
PRODID:-//Drupal//DD Create//EN
METHOD:PUBLISH
BEGIN:VEVENT
UID:dd_create.4867.0
DTSTAMP:20260420T202718Z
DTSTART:20240113T020000Z
DTEND:20240113T033000Z
SUMMARY:Author Talk and Book Signing
URL;VALUE=URI:https://www.sthope.org/event/author-talk-and-book-signing
END:VEVENT
END:VCALENDAR
