BEGIN:VCALENDAR
VERSION:2.0
PRODID:-//Drupal//DD Create//EN
METHOD:PUBLISH
BEGIN:VEVENT
UID:dd_create.4861.0
DTSTAMP:20260420T202953Z
DTSTART:20231217T040000Z
DTEND:20231217T040000Z
SUMMARY:Gospel Comedy Night
URL;VALUE=URI:https://www.sthope.org/community-event/gospel-comedy-night
END:VEVENT
END:VCALENDAR
