BEGIN:VCALENDAR
VERSION:2.0
PRODID:-//Drupal//DD Create//EN
METHOD:PUBLISH
BEGIN:VEVENT
UID:dd_create.4857.0
DTSTAMP:20260423T135904Z
DTSTART:20240107T220000Z
DTEND:20240107T220000Z
SUMMARY:Family Movie Matinee
URL;VALUE=URI:https://www.sthope.org/community-event/family-movie-matinee-0
END:VEVENT
END:VCALENDAR
