BEGIN:VCALENDAR
VERSION:2.0
PRODID:-//Drupal//DD Create//EN
METHOD:PUBLISH
BEGIN:VEVENT
UID:dd_create.4787.0
DTSTAMP:20260423T114815Z
DTSTART:20230826T010000Z
DTEND:20230826T023000Z
SUMMARY:Art Talk with Milton Bowens
URL;VALUE=URI:https://www.sthope.org/event/art-talk-milton-bowens
END:VEVENT
END:VCALENDAR
