BEGIN:VCALENDAR
VERSION:2.0
PRODID:-//Drupal//DD Create//EN
METHOD:PUBLISH
BEGIN:VEVENT
UID:dd_create.4736.0
DTSTAMP:20260424T043749Z
DTSTART:20230521T020000Z
DTEND:20230521T020000Z
SUMMARY:Comedy Night featuring Esau Mcgraw
URL;VALUE=URI:https://www.sthope.org/event/comedy-night-featuring-esau-mcgraw-0
END:VEVENT
END:VCALENDAR
