BEGIN:VCALENDAR
VERSION:2.0
PRODID:-//Drupal//DD Create//EN
METHOD:PUBLISH
BEGIN:VEVENT
UID:dd_create.4728.0
DTSTAMP:20260424T012546Z
DTSTART:20230613T010000Z
DTEND:20230613T023000Z
SUMMARY:Author Talk and Book Signing with Dr. Marilyn Nelson
URL;VALUE=URI:https://www.sthope.org/event/author-talk-and-book-signing-dr-marilyn-nelson
END:VEVENT
END:VCALENDAR
