BEGIN:VCALENDAR
VERSION:2.0
PRODID:-//Drupal//DD Create//EN
METHOD:PUBLISH
BEGIN:VEVENT
UID:dd_create.4651.0
DTSTAMP:20260423T234551Z
DTSTART:20230223T030000Z
DTEND:20230223T030000Z
SUMMARY:Sac High vs. Placer
URL;VALUE=URI:https://www.sthope.org/event/sac-high-vs-placer
END:VEVENT
END:VCALENDAR
