BEGIN:VCALENDAR
VERSION:2.0
PRODID:-//Drupal//DD Create//EN
METHOD:PUBLISH
BEGIN:VEVENT
UID:dd_create.4632.0
DTSTAMP:20260422T201914Z
DTSTART:20230204T003000Z
DTEND:20230204T030000Z
SUMMARY:Boys Basketball @ Union Mine
URL;VALUE=URI:https://www.sthope.org/event/boys-basketball-union-mine
END:VEVENT
END:VCALENDAR
