BEGIN:VCALENDAR
VERSION:2.0
PRODID:-//Drupal//DD Create//EN
METHOD:PUBLISH
BEGIN:VEVENT
UID:dd_create.4612.0
DTSTAMP:20260420T052136Z
DTSTART:20230126T003000Z
DTEND:20230126T013000Z
SUMMARY:PS7 Boys Basketball at Will C. Wood
URL;VALUE=URI:https://www.sthope.org/event/ps7-boys-basketball-will-c-wood
END:VEVENT
END:VCALENDAR
