BEGIN:VCALENDAR
VERSION:2.0
PRODID:-//Drupal//DD Create//EN
METHOD:PUBLISH
BEGIN:VEVENT
UID:dd_create.4611.0
DTSTAMP:20260423T230722Z
DTSTART:20230123T233000Z
DTEND:20230124T003000Z
SUMMARY:PS7 Boys Basketball at Fern Bacon
URL;VALUE=URI:https://www.sthope.org/event/ps7-boys-basketball-fern-bacon
END:VEVENT
END:VCALENDAR
