BEGIN:VCALENDAR
VERSION:2.0
PRODID:-//Drupal//DD Create//EN
METHOD:PUBLISH
BEGIN:VEVENT
UID:dd_create.4605.0
DTSTAMP:20260425T234144Z
DTSTART:20230204T013000Z
DTEND:20230204T013000Z
SUMMARY:Sac High Girls Basketball home @ Union Mine
URL;VALUE=URI:https://www.sthope.org/event/sac-high-girls-basketball-home-union-mine
END:VEVENT
END:VCALENDAR
