BEGIN:VCALENDAR
VERSION:2.0
PRODID:-//Drupal//DD Create//EN
METHOD:PUBLISH
BEGIN:VEVENT
UID:dd_create.4604.0
DTSTAMP:20260424T031409Z
DTSTART:20230201T033000Z
DTEND:20230201T033000Z
SUMMARY:Sac High Girls Basketball at Del Campo
URL;VALUE=URI:https://www.sthope.org/event/sac-high-girls-basketball-del-campo
END:VEVENT
END:VCALENDAR
