BEGIN:VCALENDAR
VERSION:2.0
PRODID:-//Drupal//DD Create//EN
METHOD:PUBLISH
BEGIN:VEVENT
UID:dd_create.4603.0
DTSTAMP:20260426T012445Z
DTSTART:20230128T033000Z
DTEND:20230128T033000Z
SUMMARY:Sac High Girls Basketball home vs. Vista del Lago
URL;VALUE=URI:https://www.sthope.org/event/sac-high-girls-basketball-home-vs-vista-del-lago-0
END:VEVENT
END:VCALENDAR
