BEGIN:VCALENDAR
VERSION:2.0
PRODID:-//Drupal//DD Create//EN
METHOD:PUBLISH
BEGIN:VEVENT
UID:dd_create.4600.0
DTSTAMP:20260420T080835Z
DTSTART:20230209T030000Z
DTEND:20230209T030000Z
SUMMARY:Boys Basketball at El Camino
URL;VALUE=URI:https://www.sthope.org/event/boys-basketball-el-camino-0
END:VEVENT
END:VCALENDAR
