BEGIN:VCALENDAR
VERSION:2.0
PRODID:-//Drupal//DD Create//EN
METHOD:PUBLISH
BEGIN:VEVENT
UID:dd_create.4594.0
DTSTAMP:20260424T130706Z
DTSTART:20230119T030000Z
DTEND:20230119T030000Z
SUMMARY:Boys Basketball at El Camino
URL;VALUE=URI:https://www.sthope.org/event/boys-basketball-el-camino
END:VEVENT
END:VCALENDAR
