BEGIN:VCALENDAR
VERSION:2.0
PRODID:-//Drupal//DD Create//EN
METHOD:PUBLISH
BEGIN:VEVENT
UID:dd_create.4552.0
DTSTAMP:20260425T220115Z
DTSTART:20221207T013000Z
DTEND:20221207T030000Z
SUMMARY:9th Grade Winter Dance Showcase
URL;VALUE=URI:https://www.sthope.org/event/9th-grade-winter-dance-showcase
END:VEVENT
END:VCALENDAR
