BEGIN:VCALENDAR
VERSION:2.0
PRODID:-//Drupal//DD Create//EN
METHOD:PUBLISH
BEGIN:VEVENT
UID:dd_create.4543.0
DTSTAMP:20260423T213743Z
DTSTART:20230124T020000Z
DTEND:20230124T040000Z
SUMMARY:Oak Park Speaker Series featuring Singer Santita Jackson
URL;VALUE=URI:https://www.sthope.org/event/oak-park-speaker-series-featuring-singer-santita-jackson-0
END:VEVENT
END:VCALENDAR
