BEGIN:VCALENDAR
VERSION:2.0
PRODID:-//Drupal//DD Create//EN
METHOD:PUBLISH
BEGIN:VEVENT
UID:dd_create.4533.0
DTSTAMP:20260426T023345Z
DTSTART:20221115T080000Z
DTEND:20221117T080000Z
SUMMARY:The Colour of Music
URL;VALUE=URI:https://www.sthope.org/event/colour-music
END:VEVENT
END:VCALENDAR
