BEGIN:VCALENDAR
VERSION:2.0
PRODID:-//Drupal//DD Create//EN
METHOD:PUBLISH
BEGIN:VEVENT
UID:dd_create.4527.0
DTSTAMP:20260423T181820Z
DTSTART:20221119T210000Z
DTEND:20221119T230000Z
SUMMARY:Pop-Up Vendor: Grow Peace Succulents
URL;VALUE=URI:https://www.sthope.org/event/pop-vendor-grow-peace-succulents
END:VEVENT
END:VCALENDAR
