BEGIN:VCALENDAR
VERSION:2.0
PRODID:-//Drupal//DD Create//EN
METHOD:PUBLISH
BEGIN:VEVENT
UID:dd_create.4476.0
DTSTAMP:20260425T215314Z
DTSTART:20221120T040000Z
DTEND:20221120T060000Z
SUMMARY:Comedy Night at the Guild
URL;VALUE=URI:https://www.sthope.org/event/comedy-night-guild-7
END:VEVENT
END:VCALENDAR
