BEGIN:VCALENDAR
VERSION:2.0
PRODID:-//Drupal//DD Create//EN
METHOD:PUBLISH
BEGIN:VEVENT
UID:dd_create.4452.0
DTSTAMP:20260423T131328Z
DTSTART:20221013T013000Z
DTEND:20221013T033000Z
SUMMARY:Sac High Girls Volleyball vs. El Camino HS
URL;VALUE=URI:https://www.sthope.org/event/sac-high-girls-volleyball-vs-el-camino-hs-1
END:VEVENT
END:VCALENDAR
