BEGIN:VCALENDAR
VERSION:2.0
PRODID:-//Drupal//DD Create//EN
METHOD:PUBLISH
BEGIN:VEVENT
UID:dd_create.4450.0
DTSTAMP:20260423T201700Z
DTSTART:20221006T013000Z
DTEND:20221006T033000Z
SUMMARY:Sac High Girls Volleyball vs. Del Campo HS
URL;VALUE=URI:https://www.sthope.org/event/sac-high-girls-volleyball-vs-del-campo-hs-0
END:VEVENT
END:VCALENDAR
