BEGIN:VCALENDAR
VERSION:2.0
PRODID:-//Drupal//DD Create//EN
METHOD:PUBLISH
BEGIN:VEVENT
UID:dd_create.4449.0
DTSTAMP:20260424T031359Z
DTSTART:20221004T013000Z
DTEND:20221004T033000Z
SUMMARY:Sac High Girls Volleyball vs. Christian Brothers
URL;VALUE=URI:https://www.sthope.org/event/sac-high-girls-volleyball-vs-christian-brothers-2
END:VEVENT
END:VCALENDAR
